BEGIN:VCALENDAR
VERSION:2.0
PRODID:-//wp-events-plugin.com//7.2.3.1//EN
BEGIN:VEVENT
UID:146@speld.org.au
DTSTART:20260426T233000Z
DTEND:20260430T060000Z
DTSTAMP:20260424T073020Z
URL:https://speld.org.au/events/sounds-write-4-day-course-ke270426f-27-apr
 -28-apr-29-apr-30-apr-2026/
SUMMARY:Sounds Write 4-day course (KE270426F) 27 Apr\, 28 Apr\, 29 Apr\, 30
  Apr 2026
DESCRIPTION:SUNSHINE COAST COURSE\n\nCourse duration: 4 days \n\nInclusions
 : Training manual\, lifetime access to Practitioner Portal\, refreshments/
 lunch each day\n\nVenue: Coolum At The Beach 1842 David Low Way\, Coolum B
 each\n\nRegistration has now closed.\n\nClick the Register Now button to e
 nrol or find out more about this Program.
CATEGORIES:Term 2
LOCATION:Coolum at the Beach\, 1842 David Low Way\, Coolum\, Qld\, Australi
 a
X-APPLE-STRUCTURED-LOCATION;VALUE=URI;X-ADDRESS=1842 David Low Way\, Coolum
 \, Qld\, Australia;X-APPLE-RADIUS=100;X-TITLE=Coolum at the Beach:geo:0,0
END:VEVENT
END:VCALENDAR