BEGIN:VCALENDAR
VERSION:2.0
PRODID:-//wp-events-plugin.com//7.2.3.1//EN
BEGIN:VEVENT
UID:147@speld.org.au
DTSTART:20260607T230000Z
DTEND:20260611T053000Z
DTSTAMP:20260420T002353Z
URL:https://speld.org.au/events/sounds-write-4-day-course-kp080626f-8-jun-
 9-jun-10-jun-11-jun-2026/
SUMMARY:Sounds Write 4-day course (KP080626F) 8 Jun\, 9 Jun\, 10 Jun\, 11 J
 un 2026
DESCRIPTION:BUNDABERG COURSE\n\nRegister now to attend this 4-day course to
  learn the skills\, concepts and code knowledge necessary to teach childre
 n to read and spell from Prep to Y6\, or use in an intervention setting fo
 r students of any age.\n\nCourse duration: 4 days\n\nInclusions: Training 
 manual\, lifetime access to Practitioner Portal\, refreshments/lunch each 
 day\n\nVenue: Kepnock State High School\, 43 Kepnock Rd\, Bundaberg\, Quee
 nsland\, 4670\n\nRegistrations close: 28.05.2025 (or earlier is sold out)\
 n\nClick the Register Now button to enrol or find out more about this Prog
 ram.\n
CATEGORIES:Term 2
LOCATION:Kepnock State High School\, 43 Kepnock Rd\, Bundaberg\, Qld\, 4670
 \, Australia
X-APPLE-STRUCTURED-LOCATION;VALUE=URI;X-ADDRESS=43 Kepnock Rd\, Bundaberg\,
  Qld\, 4670\, Australia;X-APPLE-RADIUS=100;X-TITLE=Kepnock State High Scho
 ol:geo:0,0
END:VEVENT
END:VCALENDAR