BEGIN:VCALENDAR
VERSION:2.0
PRODID:-//wp-events-plugin.com//7.2.3.1//EN
BEGIN:VEVENT
UID:152@speld.org.au
DTSTART:20260617T233000Z
DTEND:20260626T060000Z
DTSTAMP:20260422T064721Z
URL:https://speld.org.au/events/sounds-write-4-day-course-kp180626f-18-jun
 -19-jun-25-jun-and-26-jun-2026/
SUMMARY:Sounds Write 4-day course (KP180626F) 18 Jun\, 19 Jun\, 25 Jun and 
 26 Jun 2026
DESCRIPTION:BRISBANE EAST/ BAYSIDE COURSE\n\nRegister now to attend this 4-
 day course to learn the skills\, concepts and code knowledge necessary to 
 teach children to read and spell from Prep to Y6\, or use in an interventi
 on setting for students of any age.\n\nCourse duration: 4 days\n\nInclusio
 ns: Training manual\, lifetime access to Practitioner Portal\, refreshment
 s/lunch each day\n\nVenue: Mt Carmel Centre\, 73 Pine Street\, Wynnum Bris
 bane QLD 4178\n\nRegistrations close: 9.00am\, 11.06.2025 (or earlier is s
 old out)\n\nClick the Register Now button to enrol or find out more about 
 this Program.\n
CATEGORIES:Term 2
LOCATION:The Mt Carmel Centre\, 73 Pine Street\, Wynnum\, Qld\, 4178\, SE Q
 ld\, Australia
X-APPLE-STRUCTURED-LOCATION;VALUE=URI;X-ADDRESS=73 Pine Street\, Wynnum\, Q
 ld\, 4178\, SE Qld\, Australia;X-APPLE-RADIUS=100;X-TITLE=The Mt Carmel Ce
 ntre:geo:0,0
END:VEVENT
END:VCALENDAR