BEGIN:VCALENDAR
VERSION:2.0
PRODID:-//wp-events-plugin.com//7.2.3.1//EN
BEGIN:VEVENT
UID:151@speld.org.au
DTSTART:20260526T233000Z
DTEND:20260604T060000Z
DTSTAMP:20260422T034015Z
URL:https://speld.org.au/events/sounds-write-4-day-course-kp270526f-27-may
 -28-may-03-jun-and-04-jun-2026/
SUMMARY:Sounds Write 4-day course (KP270526F) 27 May\, 28 May\, 03 Jun and 
 04 Jun 2026
DESCRIPTION:BRISBANE/ NORTHSIDE COURSE\n\nRegister now to attend this 4-day
  course to learn the skills\, concepts and code knowledge necessary to tea
 ch children to read and spell from Prep to Y6\, or use in an intervention 
 setting for students of any age.\n\nCourse duration: 4 days\n\nInclusions:
  Training manual\, lifetime access to Practitioner Portal\, refreshments/l
 unch each day\n\nVenue: The O'Shea Centre\, 19 Lovedale St Wilston\, Brisb
 ane\, QLD\, QLD\, 4051\n\nRegistrations close: 9.00am\, 20.05.2026 (or ear
 lier is sold out)\n\nClick the Register Now button to enrol or find out mo
 re about this Program.\n
CATEGORIES:Term 2
LOCATION:The O'Shea Centre\, 19 Lovedale St\, WILSTON\, QLD\, 4051\, SE Qld
 \, Australia
X-APPLE-STRUCTURED-LOCATION;VALUE=URI;X-ADDRESS=19 Lovedale St\, WILSTON\, 
 QLD\, 4051\, SE Qld\, Australia;X-APPLE-RADIUS=100;X-TITLE=The O'Shea Cent
 re:geo:0,0
END:VEVENT
END:VCALENDAR