BEGIN:VCALENDAR
VERSION:2.0
PRODID:-//wp-events-plugin.com//7.2.3.1//EN
BEGIN:VEVENT
UID:148@speld.org.au
DTSTART:20260611T230000Z
DTEND:20260612T053000Z
DTSTAMP:20260420T002752Z
URL:https://speld.org.au/events/word-origins-a-year-3-6-spelling-and-word-
 study-program-kp120626f/
SUMMARY:Word Origins: A year 3-6 spelling and word study program (KP120626F
 )
DESCRIPTION:BUNDABERG COURSE\n\nWord Origins is an evidence-informed progra
 m designed to provide the next step in spelling\, reading and vocabulary i
 nstruction for students in middle to upper primary school and beyond. \n\n
 Course duration: 1 day\n\nVenue: Kepnock State High School\, 43 Kepnock Rd
 \, Bundaberg\, Qld\, 4670 \n\nRegistrations close 28.05.2026 (or until sol
 d out)\n\nClick the Register Now button to enrol or find out more about th
 is Program.\n
CATEGORIES:Term 2
LOCATION:Kepnock State High School\, 43 Kepnock Rd\, Bundaberg\, Qld\, 4670
 \, Australia
X-APPLE-STRUCTURED-LOCATION;VALUE=URI;X-ADDRESS=43 Kepnock Rd\, Bundaberg\,
  Qld\, 4670\, Australia;X-APPLE-RADIUS=100;X-TITLE=Kepnock State High Scho
 ol:geo:0,0
END:VEVENT
END:VCALENDAR